Workbook
Name Fin_CashEquiv: '3.1 Financial Information'!$C$38
Name Fin_CloseTotalEqty: '3.1 Financial Information'!$C$31
Name Fin_CurrentAsset: '3.1 Financial Information'!$C$25
Name Fin_CurrentAssets: '3.1 Financial Information'!$C$25
Name Fin_CurrentLiab: '3.1 Financial Information'!$C$29
Name Fin_DepAmoExp: '3.1 Financial Information'!$C$16
Name Fin_EBIT: '3.1 Financial Information'!$C$15
Name Fin_EBITDA: '3.1 Financial Information'!$C$17
Name Fin_IncTax: '3.1 Financial Information'!$C$19
Name Fin_IntangAsset: '3.1 Financial Information'!$C$26
Name Fin_IntExp: '3.1 Financial Information'!$C$18
Name Fin_NetOpCashFlow: '3.1 Financial Information'!$C$34
Name Fin_NPAT: '3.1 Financial Information'!$C$20
Name Fin_OpenTotalAsset: '3.1 Financial Information'!$C$23
Name Fin_OpenTotalAssets: '3.1 Financial Information'!$C$23
Name Fin_OpenTotalEqty: '3.1 Financial Information'!$C$24
Name Fin_Rev: '3.1 Financial Information'!$C$14
Name Fin_TotalAss: '3.1 Financial Information'!$C$27
Name Fin_TotalDebt: '3.1 Financial Information'!$C$28
Name Fin_TotalEq: '3.1 Financial Information'!$C$24
Name Fin_TotalLiab: '3.1 Financial Information'!$C$30
Name NoServClose: '2.2 Total Services'!$C$15
Name NoServEnd: '2.2 Total Services'!$C$17
Name NoServOpen: '2.2 Total Services'!$C$14
Name NoServPur: '2.2 Total Services'!$C$13
Name NoServSold: '2.2 Total Services'!$C$16
Name NoServStart: '2.2 Total Services'!$C$12
Name OrgABN: '1 Organisation Information'!$H$16
Name OrgACN: '1 Organisation Information'!$H$17
Name OrgBreach_Det: '1 Organisation Information'!$H$136
Name OrgBreach_YN: '1 Organisation Information'!$H$135
Name OrgChangeOwn_Det: '1 Organisation Information'!$H$32
Name OrgChangeOwn_YN: '1 Organisation Information'!$H$31
Name OrgContactEmail: '1 Organisation Information'!$H$24
Name OrgContactName: '1 Organisation Information'!$H$22
Name OrgContactPhone: '1 Organisation Information'!$H$25
Name OrgContactPosition: '1 Organisation Information'!$H$23
Name OrgDebtFail_Det: '1 Organisation Information'!$H$74
Name OrgDebtFail_YN: '1 Organisation Information'!$H$73
Name OrgDebtFailFut_Det: '1 Organisation Information'!$H$77
Name OrgDebtFailFut_YN: '1 Organisation Information'!$H$76
Name OrgDebtGua_Det: '1 Organisation Information'!$H$80
Name OrgDebtGua_YN: '1 Organisation Information'!$H$79
Name OrgDebtGuaFut_Det: '1 Organisation Information'!$H$83
Name OrgDebtGuaFut_YN: '1 Organisation Information'!$H$82
Name OrgDebtOwed_Det: '1 Organisation Information'!$H$86
Name OrgDebtOwed_YN: '1 Organisation Information'!$H$85
Name OrgDebtOwedFut_Det: '1 Organisation Information'!$H$89
Name OrgDebtOwedFut_YN: '1 Organisation Information'!$H$88
Name OrgEventsCon_Det: '1 Organisation Information'!$H$129
Name OrgEventsCon_YN: '1 Organisation Information'!$H$128
Name OrgEventsEff_Det: '1 Organisation Information'!$H$132
Name OrgEventsEff_YN: '1 Organisation Information'!$H$131
Name OrgFinChange_Det: '1 Organisation Information'!$H$100
Name OrgFinChange_YN: '1 Organisation Information'!$H$99
Name OrgFinChangeFut_Det: '1 Organisation Information'!$H$103
Name OrgFinChangeFut_YN: '1 Organisation Information'!$H$102
Name OrgFunding_Det: '1 Organisation Information'!$H$125
Name OrgFunding_YN: '1 Organisation Information'!$H$124
Name OrgHoldingEntity_Det: '1 Organisation Information'!$H$28

Sheet Instructions
B7: Instructions | Large Provider Financial Input Report
B9: Introduction
B10: From 1 July 2023, it is required by law that all large child care providers provide certain financial information. For the purposes of meeting financial reporting obligations, this Large Provider Financial Input Report is considered to be the report required under section 203BA of the A New Tax System (Family Assistance) (Administration) Act 1999 (Administration Act). It is a condition for continued approval that a provider is financially viable and likely to remain so. You will need to provide financial information as listed in section 54AA of the Child Care Subsidy Minister's Rules 2017, including but not limited to a statement of financial position (i.e., profit and loss statements, balance sheet etc.), a statement of comprehensive income (cash flow statements), and changes in equity statement. This information is used by the Department of Education to assess the financial viability of large child care providers as required by the Family Assistance Law. Information will be stored on the Department of Education's Protected System. Certain information you provide may be provided to the Australian Children's Education & Care Quality Authority (ACECQA), State and Territory Governments and published online on the Starting Blocks website under section 162B of the Family Assistance Administration Act.
B12: Completing the report
B13: How to save the file
B14: Before you start, save the file as an Excel workbook (xlsx file). Please save as "[Insert Organisation name]_LPFIR_end of reporting period.xlsx" e.g. Child care provider_LPFIR_30 June 2024.xlsx
B16: How to complete the report
B17: This report contains 10 tabs that require input by the organisation. All tabs and questions must be completed.
C18: Tab 1 | D18: 1 Organisation Information
C19: Tab 2 | D19: 2.1 Provider List
C20: Tab 3 | D20: 2.2 Total Services
C21: Tab 4 | D21: 2.3 Services Purchased & Opened
C22: Tab 5 | D22: 2.4 Services Sold & Closed
C23: Tab 6 | D23: 2.5 Planned Service Movements
C24: Tab 7 | D24: 3.1 Financial Information
C25: Tab 8 | D25: 3.2 Child Care Related Figures
C26: Tab 9 | D26: 4 Document Checklist
C27: Tab 10 | D27: 5 Declaration
B29: All data entry fields have been colour coded as follows:
D30: Manual entry
D31: Select from the drop down list
D32: Completed automatically
D33: Check cell and ensure that this says "TRUE"
B35: Some cells contain a note with more guidance on the type of input required (see picture across).
B37: Next steps once complete
B38: Once complete, please email the Large Provider Financial Input Report, along with any other financial information you are providing (i.e., financial statements, Director's report, organisational structure etc.) to:
B39: ECECFinancialViability@education.gov.au
B41: Please ensure that you complete the declaration and document checklist prior to emailing your response.
B43: Questions and assistance
B44: For further assistance, please email: | F44: ECECFinancialViability@education.gov.au

Sheet Important Information
B7: Authority and Relevant Reporting Period
B9: All information provided must be in relation to the below reporting period:
B10: Period commencing: | D10: 45839
B11: Period ending: | D11: 46203
B13: All references to ‘organisation’ in this worksheet are to the large provider specified in Section 1a – Organisation details
B14: Financial information required in accordance with s 54AA(1) of the Child Care Subsidy Minister's Rules 2017 Financial information which must be reported to the department includes: • a statement of financial position (for example, profit and loss statement, balance sheet (equity, assets, liabilities), cash flow statement) • a statement of comprehensive income • a statement of changes in equity • a statement of cash flows • details of rental arrangements for each child care service in respect of which the approved provider is approved • the amount of rent paid for each child care service in respect of which the approved provider is approved • if a Director’s report is produced, the Director’s report • if an Auditor’s report is produced, the Auditor’s report • information necessary for assessing whether the provider is and will remain financially viable • any other information necessary to assist in the understanding of the financial information listed in the dot points above. Examples of information that can be provided to assess a provider's financial viability may include information on the provider’s ability to meet all liabilities payable, debt guarantees from parent entities, movement in holdings of the provider’s child care services, impacts of events outside the provider’s control, other forms of business support available to the provider, changes in operating environment, and strategies the provider has implemented to maintain or improve its financial position. What is a large provider? A large provider is one that: • operates 25 or more approved services • when combined with one or more related providers, the total number of approved services operated is 25 or more • plans to operate 25 or more approved services, either individually or when combined with a related provider. When do large providers need to report? You must report within 4 months of the end of the financial reporting period. If you are a large provider and you report on a financial year, you must report within 4 months of 30 June (1 November). If you do your financial reporting on a calendar year, you must report within 4 months of 31 December (1 May). What are the consequences if large providers do not comply? Subsection 203BA(1) of the Administration Act compels you to provide the department with this information. Please be aware that this is a civil penalty provision, the contravention of which may result in a pecuniary penalty. Any financial information disclosed should be true and accurate. Under sections 137.1 and 137.2 of the Criminal Code Act 1995 it is a serious offence to provide false or misleading information, or documents to the Commonwealth. The penalty for such an offence is 12 months imprisonment. Non-compliance may also result in breaching the conditions for continued provider approval under subsection 195A(3) of the Administration Act. Sanctions may be imposed for a breach of these conditions, including suspension or cancellation of approval, under section 195H of the Administration Act. If the information you provide raises any concerns about the financial viability of an approved provider, the department may engage an expert to carry out an independent audit in accordance with section 203C of the Administration Act. Confidentiality and Privacy Your personal information is protected by law, including under the Privacy Act 1988 (Privacy Act). Personal information is information or an opinion about an identified individual or an individual who is reasonably identifiable. The department acknowledges that the requested information may also be confidential and commercially sensitive. Any information provided in accordance with section 203BA will be handled in accordance with the confidentiality provisions set out in Part 6, Division 2 of the Administration Act. Access to the information will be restricted to officers with a legitimate business need to access the information. The disclosure of personal information by a person in response to the requirements under section 203BA is taken to be a disclosure that is authorised by the Administration Act. Section 204J of the Administration Act provides that the collection, use and disclosure of personal information is authorised for the purposes of the Privacy Act where reasonably necessary to assess a large child care provider's financial viability.

Sheet 1 Organisation Information
B7: {=RIGHT(CELL("filename",D6),LEN(CELL("filename",D6))-FIND("]",CELL("filename",D6)))} -> #VALUE!
B9: Part 1
B10: Section 1a - Organisation details
B11: Legal name of organisation:
B12: Registered trading name of organisation:
B13: Preferred publishing name on StartingBlocks.gov.au
B14: Registered address of organisation (not a PO Box):
B15: Postal address of organisation:
B16: Australian Business Number (ABN):
B17: Australian Company Number (ACN), if applicable:
B18: Entity structure:
B19: If Other, please specify:
B20: Profit status:
... B40: Note: ‘Relevant persons’ are persons who have a direct or indirect interest in the organisation, with the potential to exert influence over the management or operation of the organisation. This includes Owners, Directors, Partners, Office Bearers, Councillors, and Trustees.
B42: Full Name | C42: Date of Birth (DD/MM/YYYY) | D42: Years in Position | E42: Position
B63: For additional 'Relevant persons', please include in a list as a further attachment to your report and note this in tab 4. Document List.
B65: Section 1b - Trust details
B66: Was the organisation associated with a trust, and/or acted as trustee for that trust, at any time during the reporting period?
B67: If Yes, please provide details of the trust (name and type [e.g. Discretionary, Unit Trust, Public Benevolent Institution]).
B69: Does the organisation plan to become associated with a trust, or act as trustee for that trust, at any time during the upcoming 12 months?
B70: If Yes, please provide details of the trust (name and type [e.g. Discretionary, Unit Trust, Public Benevolent Institution]).
B72: Section 1c - Debt
B73: Did the organisation fail to pay an instalment of a debt on time at any time during the reporting period?
B74: If Yes, please provide details of what occurred, including mitigating actions the organisation may have taken and how the situation has been resolved.
B76: Is there a likelihood that the organisation will fail to pay an instalment of a debt on time at any time during the upcoming 12 months?
B77: If Yes, please provide details of what is expected to occur, including mitigating actions the organisation may take and how the situation will be resolved.
B79: Did the organisation guarantee the debts of any person and/or entity at any time during the reporting period?
... B106: Please list other business activities the organisation undertakes outside of child care and the percentage of total revenue. If the exact percentage is not known, please provide an estimate. Note: Kindergarten and preschool services are not eligible for child care subsidy and hence should be classified as other business activities.
B108: Other Business Activities | C108: % of Total Revenue
B123: Section 1g - Funding Sources
B124: Is the provider able to rely on other forms of business support to facilitate business continuity?
B125: If yes, please provide details.
B127: Section 1h - Events Outside the Provider's Control
B128: Was the provider subject to the impacts of natural events such as floods, bushfires, pandemics or workforce issues?
B129: If Yes, please provide details.
B131: Did these events have a significant effect on the business operation?
B132: If Yes, please provide details.
B134: Section 1i - Compliance and Risk
B135: Has the organisation had any compliance issues or breaches with other state or federal government agencies or had any child safety breaches?
B136: If yes, please provide details.
...

Sheet 2.1 Provider List
B7: {=RIGHT(CELL("filename",D6),LEN(CELL("filename",D6))-FIND("]",CELL("filename",D6)))} -> #VALUE!
B9: Section 2a - Provider details
B10: Please provide details for your provider and all other related providers. A related provider is a provider that: • both providers have at least 25% of persons with management or control (PMCs) in common; • one provider owns 15% or more of the other; • one provider is entitled to receive 15% or more of any dividends paid by another provider.
B12: Name of provider | C12: Number of services | D12: ABN | E12: ACN | F12: Profit status
B164: For additional providers, please include in a list as a further attachment to your report and note this in tab 4. Document List.

Sheet 2.2 Total Services
B7: {=RIGHT(CELL("filename",D6),LEN(CELL("filename",D6))-FIND("]",CELL("filename",D6)))} -> #VALUE!
B9: Section 2b - Child Care Services - Summary
B10: Kindergarten and preschool services are not eligible for child care subsidy and hence should not be included in the number of services.
B12: ="Number of services operating as at " & TEXT('Important Information'!$D$10,"dd-mmm-yy") -> Number of services operating as at 01-Jul-25
B13: ="Number of services purchased between "&TEXT('Important Information'!$D$10,"dd-mmm-yy")&" and "&TEXT('Important Information'!$D$11,"dd-mmm-yy") -> Number of services purchased between 01-Jul-25 and 30-Jun-26
B14: ="Number of services opened between "&TEXT('Important Information'!$D$10,"dd-mmm-yy")&" and "&TEXT('Important Information'!$D$11,"dd-mmm-yy") -> Number of services opened between 01-Jul-25 and 30-Jun-26
B15: ="Number of services closed between "&TEXT('Important Information'!$D$10,"dd-mmm-yy")&" and "&TEXT('Important Information'!$D$11,"dd-mmm-yy") -> Number of services closed between 01-Jul-25 and 30-Jun-26
B16: ="Number of services sold between "&TEXT('Important Information'!$D$10,"dd-mmm-yy")&" and "&TEXT('Important Information'!$D$11,"dd-mmm-yy") -> Number of services sold between 01-Jul-25 and 30-Jun-26
B17: ="Number of services operating as at " & TEXT('Important Information'!$D$11,"dd-mmm-yy") -> Number of services operating as at 30-Jun-26
C18: =SUM($C$12:$C$14)-SUM($C$15:$C$16) -> 0 | D18: =($C$17=$C$18) -> TRUE

Sheet 2.3 Services Purchased & Opened
B7: {=RIGHT(CELL("filename",D6),LEN(CELL("filename",D6))-FIND("]",CELL("filename",D6)))} -> #VALUE!
B9: Section 2b - Child Care Services
B11: Services Purchased & Opened
B13: ="Please list the details of the services purchased & opened in the reporting period "&TEXT('Important Information'!$D$10,"dd-mmm-yy")&" to "&TEXT('Important Information'!$D$11,"dd-mmm-yy") -> Please list the details of the services purchased & opened in the reporting period 01-Jul-25 to 30-Jun-26
B15: Name of service | C15: Address of service | D15: ABN | E15: ACN | F15: Maximum number of licensed places | G15: Date the service commenced operation (DD/MM/YYYY) | H15: Reason(s) for purchase/opening | I15: Previous provider name (if purchased, otherwise leave blank) | J15: Care Type
B167: For additional services purchased or opened, please include in a list as a further attachment to your report and note this in tab 4. Document List.

Sheet 2.4 Services Sold & Closed
B7: {=RIGHT(CELL("filename",D6),LEN(CELL("filename",D6))-FIND("]",CELL("filename",D6)))} -> #VALUE!
B9: Section 2b - Child Care Services
B11: Services Sold & Closed
B13: ="Please list the details of the services sold & closed in the reporting period "&TEXT('Important Information'!$D$10,"dd-mmm-yy")&" to "&TEXT('Important Information'!$D$11,"dd-mmm-yy") -> Please list the details of the services sold & closed in the reporting period 01-Jul-25 to 30-Jun-26
B15: Name of service | C15: Address of service | D15: ABN | E15: ACN | F15: Maximum number of licensed places | G15: Date the service was sold or closed (DD/MM/YYYY) | H15: Reason(s) for selling/closing | I15: If sold, who bought the service (include ABN or ACN if applicable) | J15: Care Type
B167: For additional services sold or closed, please include in a list as a further attachment to your report and note this in tab 4. Document List.

Sheet 2.5 Planned Service Movements
B7: {=RIGHT(CELL("filename",C6),LEN(CELL("filename",C6))-FIND("]",CELL("filename",C6)))} -> #VALUE!
B9: Section 2b - Child Care Services
B10: Planned movements in Child Care Services
B11: ="Please provide further details for planned or actioned movements of services planned for the 12 months following " & TEXT('Important Information'!$D$11,"dd-mmm-yy") & "." -> Please provide further details for planned or actioned movements of services planned for the 12 months following 30-Jun-26.
B12: Planned movements includes a plan of the organisation: • To commence operating or cease operating a child care service • To relocate one of its child care services • To expand or reduce the capacity of one of its services. Planned movements should be reported where they involve real or actual steps taken by the organisation, or formal planning, for example: • A provider enters into an agreement for the planned movement (e.g., a business sale agreement) • A provider enters an agreement that is preparatory to the movement (e.g., purchases property or enters a lease for a child care service; seeks Expressions of Interest for the sale of a child care service) • The planned movement is included in a plan that has been endorsed by a person with management or control of the provider (e.g., in a business plan or budget).
B14: Type of Planned Movement | C14: Centre-Based Day Care (CBDC) | D14: Outside School Hours Care (OSHC) | E14: Family Day Care (FDC) | F14: In Home Care (IHC) | G14: Other | H14: Total
B15: Planned number of services to be purchased | H15: =SUM($C$15:$G$15) -> 0
B16: Planned number of services to be opened | H16: =SUM($C$16:$G$16) -> 0
B17: Planned number of services to be sold | H17: =SUM($C$17:$G$17) -> 0
B18: Planned number of services to be closed | H18: =SUM($C$18:$G$18) -> 0

Sheet 3.1 Financial Information
B7: {=RIGHT(CELL("filename",D6),LEN(CELL("filename",D6))-FIND("]",CELL("filename",D6)))} -> #VALUE!
B9: Part 3
B10: Section 3a - Financial Statement Information
B11: ="Please complete the following for the whole organisation for the reporting period "&TEXT('Important Information'!$D$10,"dd-mmm-yy")&" to "&TEXT('Important Information'!$D$11,"dd-mmm-yy") -> Please complete the following for the whole organisation for the reporting period 01-Jul-25 to 30-Jun-26
B13: Statement of Profit or Loss
B14: Revenue
B15: EBIT | D15: EBIT - Earnings before interest and taxes
B16: Depreciation and Amortisation Expense
B17: EBITDA | D17: EBITDA - Earnings before interest, taxes, depreciation and amortisation
B18: Interest Expense
B19: Income Tax
B20: NPAT | D20: NPAT - Net Profit After Tax
B22: Statement of Financial Position
B23: Opening Total Assets | D23: Total Assets at the start of the reporting period
B24: Opening Total Equity | D24: Total Equity at the start of the reporting period
B25: Current Assets
B26: Intangible Assets
B27: Closing Total Assets | D27: Total Assets at the end of the reporting period
B28: Total Debt | D28: Debt encompasses financial obligations or liabilities that arise from borrowing activities. Provide information regarding debt as it would be presented in your financial statements.
B29: Current Liabilities
B30: Total Liabilities
B31: Closing Total Equity | D31: Total Equity at the end of the reporting period
B33: Statement of Cash Flows
B34: Cash Flow from Operating Activities
B35: Cash Flow from Investing Activities
B36: Cash Flow from Financing Activities
B37: Net Cash Flow | D37: Net Cash Flow at the end of the reporting period
B38: Cash and Cash Equivalents at Year End | D38: Total Cash and Cash Equivalents at the end of the reporting period

Sheet 3.2 Child Care Related Figures
B7: {=RIGHT(CELL("filename",D6),LEN(CELL("filename",D6))-FIND("]",CELL("filename",D6)))} -> #VALUE!
B9: Section 3b - Figures for Child Care services
B10: Note: Please ignore surplus columns if your reporting period is only six months.
C12: Month
C13: =TEXT(EOMONTH('Important Information'!$D$10,0),"mmm-YY") -> Jul-25 | D13: =TEXT(EDATE(C13,1),"mmm-yy") -> Aug-25 | E13: =TEXT(EDATE(D13,1),"mmm-yy") -> Sep-25 | F13: =TEXT(EDATE(E13,1),"mmm-yy") -> Oct-25 | G13: =TEXT(EDATE(F13,1),"mmm-yy") -> Nov-25 | H13: =TEXT(EDATE(G13,1),"mmm-yy") -> Dec-25 | I13: =TEXT(EDATE(H13,1),"mmm-yy") -> Jan-26 | J13: =TEXT(EDATE(I13,1),"mmm-yy") -> Feb-26 | K13: =TEXT(EDATE(J13,1),"mmm-yy") -> Mar-26 | ... N13: =TEXT(EDATE(M13,1),"mmm-yy") -> Jun-26 | O13: Total/Average
B14: Number of child care related staff (fulltime equivalent basis) | O14: =IFERROR(AVERAGE(C14:N14),0) -> 0
B15: Total monthly salaries paid for child care related staff | O15: =SUM(C15:N15) -> 0
B16: Total monthly rental/leasing costs to occupy the premises attributed to child care services | O16: =SUM(C16:N16) -> 0
B17: Total monthly revenue earned from the provision of child care services | O17: =SUM(C17:N17) -> 0
B18: Occupancy rate for all child care services (percentage of all available licensed places) | O18: =IFERROR(AVERAGE(C18:N18),0) -> 0

Sheet 4 Document Checklist
B7: {=RIGHT(CELL("filename",D6),LEN(CELL("filename",D6))-FIND("]",CELL("filename",D6)))} -> #VALUE!
B9: Please complete the table below to identify and confirm the documents you are providing as part of your report.
B11: Supporting Document | C11: Attached to Email | D11: Not Applicable
B12: Financial Statements
B13: Statement of Financial Position
B14: Statement of Comprehensive Income
B15: Statement of Changes in Equity
B16: Statement of Cash Flows
B17: Director’s Report
B18: Auditor’s Report (if one is produced)
B19: Ultimate Holding Entity diagram/organisation structure
B20: List of Additional Providers
B21: List of Additional Services Purchased & Opened
B22: List of Additional Services Sold & Closed
B24: Please list any other attachments not listed above in the table below. Other attachments can include any other information necessary for assessing whether the provider is and will remain financially viable, and any information necessary to assist in the understanding of any financial information provided.
B26: Supporting Document | C26: Attached to Email

Sheet 5 Declaration
B7: {=RIGHT(CELL("filename",D6),LEN(CELL("filename",D6))-FIND("]",CELL("filename",D6)))} -> #VALUE!
B9: I understand I am required to provide a report and other financial information to the Department of Education (the department), as required under the A New Tax System (Family Assistance) (Administration) Act 1999 (Administration Act), to assist the department in determining whether, I, as a large provider, am financially viable and will be likely to remain so. I understand the department may disclose some of my information to the Australian Children's Education and Care Quality Authority (ACECQA), which will be published on the Starting Blocks website (StartingBlocks.gov.au) to uplift transparency in the child care sector and equip families with more information about the child care services they access. I am aware that failing to provide the information required in this spreadsheet, as required by section 203BA of the Administration Act, may constitute non-compliance with the family assistance law and may result in a civil penalty. I declare that: • The information I have given on the Large Provider Financial Input Report and on any other attachments is true and accurate • I am aware financial information provided may be shared to ACECQA, State and Territory Governments and published on the Starting Blocks website • I am aware that knowingly providing a false or misleading statement is a criminal offence and may carry a penalty of up to 12 months imprisonment.
E12: Full name of person making declaration:
E13: Title:
E14: Signature:
E15: Date:
